BEGIN:VCALENDAR
VERSION:2.0
PRODID:-//CCA - ECPv6.15.20//NONSGML v1.0//EN
CALSCALE:GREGORIAN
METHOD:PUBLISH
X-WR-CALNAME:CCA
X-ORIGINAL-URL:https://www.capitalcommunityathletics.com
X-WR-CALDESC:Events for CCA
REFRESH-INTERVAL;VALUE=DURATION:PT1H
X-Robots-Tag:noindex
X-PUBLISHED-TTL:PT1H
BEGIN:VTIMEZONE
TZID:America/Los_Angeles
BEGIN:DAYLIGHT
TZOFFSETFROM:-0800
TZOFFSETTO:-0700
TZNAME:PDT
DTSTART:20250309T100000
END:DAYLIGHT
BEGIN:STANDARD
TZOFFSETFROM:-0700
TZOFFSETTO:-0800
TZNAME:PST
DTSTART:20251102T090000
END:STANDARD
BEGIN:DAYLIGHT
TZOFFSETFROM:-0800
TZOFFSETTO:-0700
TZNAME:PDT
DTSTART:20260308T100000
END:DAYLIGHT
BEGIN:STANDARD
TZOFFSETFROM:-0700
TZOFFSETTO:-0800
TZNAME:PST
DTSTART:20261101T090000
END:STANDARD
BEGIN:DAYLIGHT
TZOFFSETFROM:-0800
TZOFFSETTO:-0700
TZNAME:PDT
DTSTART:20270314T100000
END:DAYLIGHT
BEGIN:STANDARD
TZOFFSETFROM:-0700
TZOFFSETTO:-0800
TZNAME:PST
DTSTART:20271107T090000
END:STANDARD
END:VTIMEZONE
BEGIN:VEVENT
DTSTART;TZID=America/Los_Angeles:20260321T102000
DTEND;TZID=America/Los_Angeles:20260321T112000
DTSTAMP:20260425T135623
CREATED:20260311T030036Z
LAST-MODIFIED:20260318T034359Z
UID:15319-1774088400-1774092000@www.capitalcommunityathletics.com
SUMMARY:U10 Boys Away- Coach Sergio
DESCRIPTION:Match #84\, Avila U10 Field 1
URL:https://www.capitalcommunityathletics.com/event/u10-boys-away-coach-sergio-5/
LOCATION:Northgate Park\, 2825 Mendel Way\, Sacramento\, CA\, United States
END:VEVENT
BEGIN:VEVENT
DTSTART;TZID=America/Los_Angeles:20260321T113000
DTEND;TZID=America/Los_Angeles:20260321T130000
DTSTAMP:20260425T135623
CREATED:20260311T030036Z
LAST-MODIFIED:20260318T034359Z
UID:15320-1774092600-1774098000@www.capitalcommunityathletics.com
SUMMARY:U16 Boys Home- Coach Nick
DESCRIPTION:Match #443\, Grass field off of Eastern Ave
URL:https://www.capitalcommunityathletics.com/event/u16-boys-home-coach-nick-3/
LOCATION:El Camino Fundamental HS\, 4300 el Camino Ave\, Sacramento\, CA\, United States
END:VEVENT
BEGIN:VEVENT
DTSTART;TZID=America/Los_Angeles:20260321T114000
DTEND;TZID=America/Los_Angeles:20260321T130000
DTSTAMP:20260425T135623
CREATED:20260307T022917Z
LAST-MODIFIED:20260321T055909Z
UID:15228-1774093200-1774098000@www.capitalcommunityathletics.com
SUMMARY:U13 Boys Away- Coach Rafi
DESCRIPTION:Match #83\, State Cup Quarter Final\, Field #5
URL:https://www.capitalcommunityathletics.com/event/u13-boys-away-coach-rafi/
LOCATION:Turlock Regional Sports Complex\, 4545 N Kilroy Rd\, Turlock\, CA\, United States
END:VEVENT
BEGIN:VEVENT
DTSTART;TZID=America/Los_Angeles:20260321T121500
DTEND;TZID=America/Los_Angeles:20260321T134500
DTSTAMP:20260425T135623
CREATED:20260311T030048Z
LAST-MODIFIED:20260318T034359Z
UID:15323-1774095300-1774100700@www.capitalcommunityathletics.com
SUMMARY:U14 Boys Away- Coach Phetse
DESCRIPTION:Match #337\, Field 6A
URL:https://www.capitalcommunityathletics.com/event/u14-boys-away-coach-phetse-4/
LOCATION:Beckwourth Riverfront Park\, 1010 Johnson Ave\, Marysville\, CA\, United States
END:VEVENT
BEGIN:VEVENT
DTSTART;TZID=America/Los_Angeles:20260321T133000
DTEND;TZID=America/Los_Angeles:20260321T144500
DTSTAMP:20260425T135623
CREATED:20260311T030037Z
LAST-MODIFIED:20260318T034359Z
UID:15321-1774099800-1774104300@www.capitalcommunityathletics.com
SUMMARY:U12 Girls Away- Coach Maddy
DESCRIPTION:Match #167\, U12 A
URL:https://www.capitalcommunityathletics.com/event/u12-girls-away-coach-maddy/
LOCATION:Albert Einstein Middle School\, 9325 Mirandy Dr\, Sacramento\, CA\, United States
END:VEVENT
BEGIN:VEVENT
DTSTART;TZID=America/Los_Angeles:20260321T133000
DTEND;TZID=America/Los_Angeles:20260321T144500
DTSTAMP:20260425T135623
CREATED:20260311T030048Z
LAST-MODIFIED:20260318T034359Z
UID:15324-1774099800-1774104300@www.capitalcommunityathletics.com
SUMMARY:U12 Boys Away- Coach Chris
DESCRIPTION:Match #273\, Upper Field
URL:https://www.capitalcommunityathletics.com/event/u12-boys-away-coach-chris/
LOCATION:Herbert C. Green Middle School\, 3781 Forni Rd\, Placerville\, CA\, United States
END:VEVENT
END:VCALENDAR