BEGIN:VCALENDAR
VERSION:2.0
PRODID:-//CCA - ECPv6.15.20//NONSGML v1.0//EN
CALSCALE:GREGORIAN
METHOD:PUBLISH
X-ORIGINAL-URL:https://www.capitalcommunityathletics.com
X-WR-CALDESC:Events for CCA
REFRESH-INTERVAL;VALUE=DURATION:PT1H
X-Robots-Tag:noindex
X-PUBLISHED-TTL:PT1H
BEGIN:VTIMEZONE
TZID:America/Los_Angeles
BEGIN:DAYLIGHT
TZOFFSETFROM:-0800
TZOFFSETTO:-0700
TZNAME:PDT
DTSTART:20250309T100000
END:DAYLIGHT
BEGIN:STANDARD
TZOFFSETFROM:-0700
TZOFFSETTO:-0800
TZNAME:PST
DTSTART:20251102T090000
END:STANDARD
BEGIN:DAYLIGHT
TZOFFSETFROM:-0800
TZOFFSETTO:-0700
TZNAME:PDT
DTSTART:20260308T100000
END:DAYLIGHT
BEGIN:STANDARD
TZOFFSETFROM:-0700
TZOFFSETTO:-0800
TZNAME:PST
DTSTART:20261101T090000
END:STANDARD
BEGIN:DAYLIGHT
TZOFFSETFROM:-0800
TZOFFSETTO:-0700
TZNAME:PDT
DTSTART:20270314T100000
END:DAYLIGHT
BEGIN:STANDARD
TZOFFSETFROM:-0700
TZOFFSETTO:-0800
TZNAME:PST
DTSTART:20271107T090000
END:STANDARD
END:VTIMEZONE
BEGIN:VEVENT
DTSTART;TZID=America/Los_Angeles:20260410T180000
DTEND;TZID=America/Los_Angeles:20260410T193000
DTSTAMP:20260425T122953
CREATED:20260307T022917Z
LAST-MODIFIED:20260410T144402Z
UID:15234-1775844000-1775849400@www.capitalcommunityathletics.com
SUMMARY:U13 Boys Away- Coach Rafi
DESCRIPTION:Match #554\, Field #6
URL:https://www.capitalcommunityathletics.com/event/u13-boys-away-coach-rafi-2/
LOCATION:Margaret Azevedo Park\, Rocklin\, CA\, United States
END:VEVENT
BEGIN:VEVENT
DTSTART;TZID=America/Los_Angeles:20260410T180000
DTEND;TZID=America/Los_Angeles:20260410T203000
DTSTAMP:20260425T122953
CREATED:20260328T061359Z
LAST-MODIFIED:20260410T144402Z
UID:15445-1775844000-1775853000@www.capitalcommunityathletics.com
SUMMARY:Tour of CCA
DESCRIPTION:
URL:https://www.capitalcommunityathletics.com/event/tour-of-cca-2/
LOCATION:CA
END:VEVENT
END:VCALENDAR