BEGIN:VCALENDAR
VERSION:2.0
PRODID:-//CCA - ECPv6.15.20//NONSGML v1.0//EN
CALSCALE:GREGORIAN
METHOD:PUBLISH
X-WR-CALNAME:CCA
X-ORIGINAL-URL:https://www.capitalcommunityathletics.com
X-WR-CALDESC:Events for CCA
REFRESH-INTERVAL;VALUE=DURATION:PT1H
X-Robots-Tag:noindex
X-PUBLISHED-TTL:PT1H
BEGIN:VTIMEZONE
TZID:America/Los_Angeles
BEGIN:DAYLIGHT
TZOFFSETFROM:-0800
TZOFFSETTO:-0700
TZNAME:PDT
DTSTART:20250309T100000
END:DAYLIGHT
BEGIN:STANDARD
TZOFFSETFROM:-0700
TZOFFSETTO:-0800
TZNAME:PST
DTSTART:20251102T090000
END:STANDARD
BEGIN:DAYLIGHT
TZOFFSETFROM:-0800
TZOFFSETTO:-0700
TZNAME:PDT
DTSTART:20260308T100000
END:DAYLIGHT
BEGIN:STANDARD
TZOFFSETFROM:-0700
TZOFFSETTO:-0800
TZNAME:PST
DTSTART:20261101T090000
END:STANDARD
BEGIN:DAYLIGHT
TZOFFSETFROM:-0800
TZOFFSETTO:-0700
TZNAME:PDT
DTSTART:20270314T100000
END:DAYLIGHT
BEGIN:STANDARD
TZOFFSETFROM:-0700
TZOFFSETTO:-0800
TZNAME:PST
DTSTART:20271107T090000
END:STANDARD
END:VTIMEZONE
BEGIN:VEVENT
DTSTART;TZID=America/Los_Angeles:20260412T130000
DTEND;TZID=America/Los_Angeles:20260412T143000
DTSTAMP:20260425T123553
CREATED:20260409T144418Z
LAST-MODIFIED:20260412T144357Z
UID:15482-1775998800-1776004200@www.capitalcommunityathletics.com
SUMMARY:U12 Girls Away- Coach Craig
DESCRIPTION:Match #167\, 9v9 field
URL:https://www.capitalcommunityathletics.com/event/u12-girls-away-coach-craig-3/
LOCATION:Sierra Oaks K-8\, 171 Mills Rd\, Sacramento\, CA\, United States
END:VEVENT
BEGIN:VEVENT
DTSTART;TZID=America/Los_Angeles:20260412T160000
DTEND;TZID=America/Los_Angeles:20260412T173000
DTSTAMP:20260425T123553
CREATED:20260403T064428Z
LAST-MODIFIED:20260411T144409Z
UID:15459-1776009600-1776015000@www.capitalcommunityathletics.com
SUMMARY:U15 Boys Home- Coach Rob
DESCRIPTION:Match #1117\, State Cup Knockout\, Field 1
URL:https://www.capitalcommunityathletics.com/event/u15-boys-home-coach-rob-7/
LOCATION:Larchmont Community Park\, 2449 Stansberry Way\, Sacramento\, CA\, United States
END:VEVENT
BEGIN:VEVENT
DTSTART;TZID=America/Los_Angeles:20260412T170000
DTEND;TZID=America/Los_Angeles:20260412T181500
DTSTAMP:20260425T123553
CREATED:20260409T144419Z
LAST-MODIFIED:20260412T144357Z
UID:15484-1776013200-1776017700@www.capitalcommunityathletics.com
SUMMARY:U12 Boys Away- Coach Chris
DESCRIPTION:Match #273\, Grass field
URL:https://www.capitalcommunityathletics.com/event/u12-boys-away-coach-chris-5/
LOCATION:Union Mine High School\, 6530 Koki Ln\, El Dorado\, CA\, United States
END:VEVENT
END:VCALENDAR