BEGIN:VCALENDAR
VERSION:2.0
PRODID:-//CCA - ECPv6.15.20//NONSGML v1.0//EN
CALSCALE:GREGORIAN
METHOD:PUBLISH
X-WR-CALNAME:CCA
X-ORIGINAL-URL:https://www.capitalcommunityathletics.com
X-WR-CALDESC:Events for CCA
REFRESH-INTERVAL;VALUE=DURATION:PT1H
X-Robots-Tag:noindex
X-PUBLISHED-TTL:PT1H
BEGIN:VTIMEZONE
TZID:America/Los_Angeles
BEGIN:DAYLIGHT
TZOFFSETFROM:-0800
TZOFFSETTO:-0700
TZNAME:PDT
DTSTART:20250309T100000
END:DAYLIGHT
BEGIN:STANDARD
TZOFFSETFROM:-0700
TZOFFSETTO:-0800
TZNAME:PST
DTSTART:20251102T090000
END:STANDARD
BEGIN:DAYLIGHT
TZOFFSETFROM:-0800
TZOFFSETTO:-0700
TZNAME:PDT
DTSTART:20260308T100000
END:DAYLIGHT
BEGIN:STANDARD
TZOFFSETFROM:-0700
TZOFFSETTO:-0800
TZNAME:PST
DTSTART:20261101T090000
END:STANDARD
BEGIN:DAYLIGHT
TZOFFSETFROM:-0800
TZOFFSETTO:-0700
TZNAME:PDT
DTSTART:20270314T100000
END:DAYLIGHT
BEGIN:STANDARD
TZOFFSETFROM:-0700
TZOFFSETTO:-0800
TZNAME:PST
DTSTART:20271107T090000
END:STANDARD
END:VTIMEZONE
BEGIN:VEVENT
DTSTART;TZID=America/Los_Angeles:20260307T141500
DTEND;TZID=America/Los_Angeles:20260307T154500
DTSTAMP:20260425T201723
CREATED:20260307T022916Z
LAST-MODIFIED:20260307T022916Z
UID:15223-1772892900-1772898300@www.capitalcommunityathletics.com
SUMMARY:U13 Boys Home- Coach Rafi
DESCRIPTION:Match #552\, Field #2
URL:https://www.capitalcommunityathletics.com/event/u13-boys-home-coach-rafi-2/
LOCATION:Larchmont Community Park\, 2449 Stansberry Way\, Sacramento\, CA\, United States
END:VEVENT
BEGIN:VEVENT
DTSTART;TZID=America/Los_Angeles:20260307T084500
DTEND;TZID=America/Los_Angeles:20260307T101500
DTSTAMP:20260425T201723
CREATED:20260307T022916Z
LAST-MODIFIED:20260307T022916Z
UID:15222-1772873100-1772878500@www.capitalcommunityathletics.com
SUMMARY:U15 Boys Home- Coach Rob
DESCRIPTION:Match #15894\, Field #1
URL:https://www.capitalcommunityathletics.com/event/u15-boys-home-coach-rob/
LOCATION:Larchmont Community Park\, 2449 Stansberry Way\, Sacramento\, CA\, United States
END:VEVENT
BEGIN:VEVENT
DTSTART;TZID=America/Los_Angeles:20260228T113000
DTEND;TZID=America/Los_Angeles:20260228T133000
DTSTAMP:20260425T201723
CREATED:20260214T021424Z
LAST-MODIFIED:20260228T021409Z
UID:15187-1772278200-1772285400@www.capitalcommunityathletics.com
SUMMARY:U13 Boys Home- Coach Rafi
DESCRIPTION:Turf field. State Cup Knockout stage. Match #78
URL:https://www.capitalcommunityathletics.com/event/u13-boys-home-coach-rafi/
LOCATION:El Camino Fundamental HS\, 4300 el Camino Ave\, Sacramento\, CA\, United States
END:VEVENT
BEGIN:VEVENT
DTSTART;TZID=America/Los_Angeles:20260215T114500
DTEND;TZID=America/Los_Angeles:20260215T163000
DTSTAMP:20260425T201723
CREATED:20260125T005952Z
LAST-MODIFIED:20260215T021408Z
UID:15134-1771155900-1771173000@www.capitalcommunityathletics.com
SUMMARY:Girls' Winter Cup
DESCRIPTION:
URL:https://www.capitalcommunityathletics.com/event/girls-winter-cup/
LOCATION:Le Five Indoor Soccer – West Sacramento\, 3940 Seaport Blvd\, West Sacramento\, CA\, United States
END:VEVENT
BEGIN:VEVENT
DTSTART;TZID=America/Los_Angeles:20260214T071500
DTEND;TZID=America/Los_Angeles:20260214T160000
DTSTAMP:20260425T201723
CREATED:20260125T005952Z
LAST-MODIFIED:20260214T021423Z
UID:15133-1771053300-1771084800@www.capitalcommunityathletics.com
SUMMARY:Boys' Winter Cup
DESCRIPTION:
URL:https://www.capitalcommunityathletics.com/event/boys-winter-cup/
LOCATION:Le Five Indoor Soccer – West Sacramento\, 3940 Seaport Blvd\, West Sacramento\, CA\, United States
END:VEVENT
END:VCALENDAR