BEGIN:VCALENDAR
VERSION:2.0
PRODID:-//CCA - ECPv6.15.20//NONSGML v1.0//EN
CALSCALE:GREGORIAN
METHOD:PUBLISH
X-WR-CALNAME:CCA
X-ORIGINAL-URL:https://www.capitalcommunityathletics.com
X-WR-CALDESC:Events for CCA
REFRESH-INTERVAL;VALUE=DURATION:PT1H
X-Robots-Tag:noindex
X-PUBLISHED-TTL:PT1H
BEGIN:VTIMEZONE
TZID:America/Los_Angeles
BEGIN:DAYLIGHT
TZOFFSETFROM:-0800
TZOFFSETTO:-0700
TZNAME:PDT
DTSTART:20250309T100000
END:DAYLIGHT
BEGIN:STANDARD
TZOFFSETFROM:-0700
TZOFFSETTO:-0800
TZNAME:PST
DTSTART:20251102T090000
END:STANDARD
BEGIN:DAYLIGHT
TZOFFSETFROM:-0800
TZOFFSETTO:-0700
TZNAME:PDT
DTSTART:20260308T100000
END:DAYLIGHT
BEGIN:STANDARD
TZOFFSETFROM:-0700
TZOFFSETTO:-0800
TZNAME:PST
DTSTART:20261101T090000
END:STANDARD
BEGIN:DAYLIGHT
TZOFFSETFROM:-0800
TZOFFSETTO:-0700
TZNAME:PDT
DTSTART:20270314T100000
END:DAYLIGHT
BEGIN:STANDARD
TZOFFSETFROM:-0700
TZOFFSETTO:-0800
TZNAME:PST
DTSTART:20271107T090000
END:STANDARD
END:VTIMEZONE
BEGIN:VEVENT
DTSTART;TZID=America/Los_Angeles:20260516T090000
DTEND;TZID=America/Los_Angeles:20260516T103000
DTSTAMP:20260425T175504
CREATED:20260311T030151Z
LAST-MODIFIED:20260425T152910Z
UID:15358-1778922000-1778927400@www.capitalcommunityathletics.com
SUMMARY:U16 Boys Home- Coach Nick
DESCRIPTION:Match #458\, Grass field off of Eastern Ave
URL:https://www.capitalcommunityathletics.com/event/u16-boys-home-coach-nick-6/
LOCATION:El Camino Fundamental HS\, 4300 el Camino Ave\, Sacramento\, CA\, United States
END:VEVENT
BEGIN:VEVENT
DTSTART;TZID=America/Los_Angeles:20260516T103000
DTEND;TZID=America/Los_Angeles:20260516T120000
DTSTAMP:20260425T175504
CREATED:20260311T030151Z
LAST-MODIFIED:20260425T152910Z
UID:15356-1778927400-1778932800@www.capitalcommunityathletics.com
SUMMARY:U14 Boys Home- Coach Phetse
DESCRIPTION:Match #365\, Grass field off of Eastern Ave
URL:https://www.capitalcommunityathletics.com/event/u14-boys-home-coach-phetse-6/
LOCATION:El Camino Fundamental HS\, 4300 el Camino Ave\, Sacramento\, CA\, United States
END:VEVENT
BEGIN:VEVENT
DTSTART;TZID=America/Los_Angeles:20260516T140000
DTEND;TZID=America/Los_Angeles:20260516T153000
DTSTAMP:20260425T175504
CREATED:20260307T022942Z
LAST-MODIFIED:20260425T152910Z
UID:15254-1778940000-1778945400@www.capitalcommunityathletics.com
SUMMARY:U13 Boys Away- Coach Rafi
DESCRIPTION:Match #578\, Field #1
URL:https://www.capitalcommunityathletics.com/event/u13-boys-away-coach-rafi-6/
LOCATION:Buchanan High School\, 1560 N Minnewawa Ave\, Fresno\, CA\, United States
END:VEVENT
BEGIN:VEVENT
DTSTART;TZID=America/Los_Angeles:20260615T180000
DTEND;TZID=America/Los_Angeles:20260615T200000
DTSTAMP:20260425T175504
CREATED:20260307T022942Z
LAST-MODIFIED:20260425T152910Z
UID:15255-1781546400-1781553600@www.capitalcommunityathletics.com
SUMMARY:Summer Jam Coach Training
DESCRIPTION:
URL:https://www.capitalcommunityathletics.com/event/summer-jam-coach-training/
END:VEVENT
BEGIN:VEVENT
DTSTART;TZID=America/Los_Angeles:20260616T090000
DTEND;TZID=America/Los_Angeles:20260616T120000
DTSTAMP:20260425T175504
CREATED:20260307T022942Z
LAST-MODIFIED:20260425T152910Z
UID:15256-1781600400-1781611200@www.capitalcommunityathletics.com
SUMMARY:Summer Jam 2026
DESCRIPTION:
URL:https://www.capitalcommunityathletics.com/event/summer-jam-2026/
END:VEVENT
BEGIN:VEVENT
DTSTART;TZID=America/Los_Angeles:20260617T090000
DTEND;TZID=America/Los_Angeles:20260617T120000
DTSTAMP:20260425T175504
CREATED:20260318T034510Z
LAST-MODIFIED:20260425T152910Z
UID:15412-1781686800-1781697600@www.capitalcommunityathletics.com
SUMMARY:Summer Jam
DESCRIPTION:
URL:https://www.capitalcommunityathletics.com/event/summer-jam-4/
END:VEVENT
BEGIN:VEVENT
DTSTART;TZID=America/Los_Angeles:20260618T090000
DTEND;TZID=America/Los_Angeles:20260618T120000
DTSTAMP:20260425T175504
CREATED:20260318T034510Z
LAST-MODIFIED:20260425T152911Z
UID:15413-1781773200-1781784000@www.capitalcommunityathletics.com
SUMMARY:Summer Jam
DESCRIPTION:
URL:https://www.capitalcommunityathletics.com/event/summer-jam-5/
END:VEVENT
BEGIN:VEVENT
DTSTART;TZID=America/Los_Angeles:20260619T090000
DTEND;TZID=America/Los_Angeles:20260619T120000
DTSTAMP:20260425T175504
CREATED:20260318T034510Z
LAST-MODIFIED:20260425T152911Z
UID:15414-1781859600-1781870400@www.capitalcommunityathletics.com
SUMMARY:Summer Jam
DESCRIPTION:
URL:https://www.capitalcommunityathletics.com/event/summer-jam-6/
END:VEVENT
END:VCALENDAR