BEGIN:VCALENDAR
VERSION:2.0
PRODID:-//CCA - ECPv6.15.20//NONSGML v1.0//EN
CALSCALE:GREGORIAN
METHOD:PUBLISH
X-ORIGINAL-URL:https://www.capitalcommunityathletics.com
X-WR-CALDESC:Events for CCA
REFRESH-INTERVAL;VALUE=DURATION:PT1H
X-Robots-Tag:noindex
X-PUBLISHED-TTL:PT1H
BEGIN:VTIMEZONE
TZID:America/Los_Angeles
BEGIN:DAYLIGHT
TZOFFSETFROM:-0800
TZOFFSETTO:-0700
TZNAME:PDT
DTSTART:20250309T100000
END:DAYLIGHT
BEGIN:STANDARD
TZOFFSETFROM:-0700
TZOFFSETTO:-0800
TZNAME:PST
DTSTART:20251102T090000
END:STANDARD
BEGIN:DAYLIGHT
TZOFFSETFROM:-0800
TZOFFSETTO:-0700
TZNAME:PDT
DTSTART:20260308T100000
END:DAYLIGHT
BEGIN:STANDARD
TZOFFSETFROM:-0700
TZOFFSETTO:-0800
TZNAME:PST
DTSTART:20261101T090000
END:STANDARD
BEGIN:DAYLIGHT
TZOFFSETFROM:-0800
TZOFFSETTO:-0700
TZNAME:PDT
DTSTART:20270314T100000
END:DAYLIGHT
BEGIN:STANDARD
TZOFFSETFROM:-0700
TZOFFSETTO:-0800
TZNAME:PST
DTSTART:20271107T090000
END:STANDARD
END:VTIMEZONE
BEGIN:VEVENT
DTSTART;TZID=America/Los_Angeles:20260412T130000
DTEND;TZID=America/Los_Angeles:20260412T143000
DTSTAMP:20260425T090038
CREATED:20260409T144418Z
LAST-MODIFIED:20260412T144357Z
UID:15482-1775998800-1776004200@www.capitalcommunityathletics.com
SUMMARY:U12 Girls Away- Coach Craig
DESCRIPTION:Match #167\, 9v9 field
URL:https://www.capitalcommunityathletics.com/event/u12-girls-away-coach-craig-3/
LOCATION:Sierra Oaks K-8\, 171 Mills Rd\, Sacramento\, CA\, United States
END:VEVENT
BEGIN:VEVENT
DTSTART;TZID=America/Los_Angeles:20260412T160000
DTEND;TZID=America/Los_Angeles:20260412T173000
DTSTAMP:20260425T090038
CREATED:20260403T064428Z
LAST-MODIFIED:20260411T144409Z
UID:15459-1776009600-1776015000@www.capitalcommunityathletics.com
SUMMARY:U15 Boys Home- Coach Rob
DESCRIPTION:Match #1117\, State Cup Knockout\, Field 1
URL:https://www.capitalcommunityathletics.com/event/u15-boys-home-coach-rob-7/
LOCATION:Larchmont Community Park\, 2449 Stansberry Way\, Sacramento\, CA\, United States
END:VEVENT
BEGIN:VEVENT
DTSTART;TZID=America/Los_Angeles:20260412T170000
DTEND;TZID=America/Los_Angeles:20260412T181500
DTSTAMP:20260425T090038
CREATED:20260409T144419Z
LAST-MODIFIED:20260412T144357Z
UID:15484-1776013200-1776017700@www.capitalcommunityathletics.com
SUMMARY:U12 Boys Away- Coach Chris
DESCRIPTION:Match #273\, Grass field
URL:https://www.capitalcommunityathletics.com/event/u12-boys-away-coach-chris-5/
LOCATION:Union Mine High School\, 6530 Koki Ln\, El Dorado\, CA\, United States
END:VEVENT
BEGIN:VEVENT
DTSTART;TZID=America/Los_Angeles:20260417T174500
DTEND;TZID=America/Los_Angeles:20260417T184500
DTSTAMP:20260425T090038
CREATED:20260411T144409Z
LAST-MODIFIED:20260417T144401Z
UID:15490-1776447900-1776451500@www.capitalcommunityathletics.com
SUMMARY:U10 Boys Away- Coach Sergio
DESCRIPTION:Match #84\, Field 1
URL:https://www.capitalcommunityathletics.com/event/u10-boys-away-coach-sergio-9/
LOCATION:Northgate Park\, 2825 Mendel Way\, Sacramento\, CA\, United States
END:VEVENT
BEGIN:VEVENT
DTSTART;VALUE=DATE:20260418
DTEND;VALUE=DATE:20260419
DTSTAMP:20260425T090038
CREATED:20260311T030112Z
LAST-MODIFIED:20260418T144412Z
UID:15334-1776470400-1776556799@www.capitalcommunityathletics.com
SUMMARY:U12 Girls Away- Coach Craig
DESCRIPTION:Match #186
URL:https://www.capitalcommunityathletics.com/event/u12-girls-away-coach-maddy-3/
LOCATION:Summerfield Park\, 2798 Linden Rd\, West Sacramento\, CA\, United States
END:VEVENT
BEGIN:VEVENT
DTSTART;VALUE=DATE:20260418
DTEND;VALUE=DATE:20260419
DTSTAMP:20260425T090038
CREATED:20260311T030113Z
LAST-MODIFIED:20260418T144412Z
UID:15338-1776470400-1776556799@www.capitalcommunityathletics.com
SUMMARY:U12 Boys Away- Coach Chris
DESCRIPTION:Match #286
URL:https://www.capitalcommunityathletics.com/event/u12-boys-away-coach-chris-2/
LOCATION:Bass Lake Park (Sellwood Field)\, 2601 Sorney Loop\, Rescue\, CA\, United States
END:VEVENT
BEGIN:VEVENT
DTSTART;TZID=America/Los_Angeles:20260418T093000
DTEND;TZID=America/Los_Angeles:20260418T110000
DTSTAMP:20260425T090038
CREATED:20260414T144423Z
LAST-MODIFIED:20260418T144412Z
UID:15495-1776504600-1776510000@www.capitalcommunityathletics.com
SUMMARY:U15 Boys Home- Coach Rob
DESCRIPTION:Match #1117\, Turf Field\, State Cup Knockout Match
URL:https://www.capitalcommunityathletics.com/event/u15-boys-home-coach-rob-8/
LOCATION:Rio Americano High School\, 4540 American River Dr\, Sacramento\, CA\, United States
END:VEVENT
BEGIN:VEVENT
DTSTART;TZID=America/Los_Angeles:20260418T115000
DTEND;TZID=America/Los_Angeles:20260418T125000
DTSTAMP:20260425T090038
CREATED:20260311T030113Z
LAST-MODIFIED:20260418T144412Z
UID:15336-1776513000-1776516600@www.capitalcommunityathletics.com
SUMMARY:U10 Boys Away- Coach Sergio
DESCRIPTION:Match #93\, Avila U10 Field 1
URL:https://www.capitalcommunityathletics.com/event/u10-boys-away-coach-sergio-6/
LOCATION:Northgate Park\, 2825 Mendel Way\, Sacramento\, CA\, United States
END:VEVENT
BEGIN:VEVENT
DTSTART;TZID=America/Los_Angeles:20260418T120000
DTEND;TZID=America/Los_Angeles:20260418T133000
DTSTAMP:20260425T090038
CREATED:20260311T030112Z
LAST-MODIFIED:20260419T145901Z
UID:15335-1776513600-1776519000@www.capitalcommunityathletics.com
SUMMARY:U14 Boys Home- Coach Phetse
DESCRIPTION:Match #351\, Grass field off of Eastern Ave
URL:https://www.capitalcommunityathletics.com/event/u14-boys-home-coach-phetse-4/
LOCATION:El Camino Fundamental HS\, 4300 el Camino Ave\, Sacramento\, CA\, United States
END:VEVENT
BEGIN:VEVENT
DTSTART;TZID=America/Los_Angeles:20260418T130000
DTEND;TZID=America/Los_Angeles:20260418T143000
DTSTAMP:20260425T090038
CREATED:20260311T030113Z
LAST-MODIFIED:20260418T144412Z
UID:15337-1776517200-1776522600@www.capitalcommunityathletics.com
SUMMARY:U16 Boys Away- Coach Nick
DESCRIPTION:Match #449
URL:https://www.capitalcommunityathletics.com/event/u16-boys-away-coach-nick-4/
LOCATION:Nugget Fields\, 9001 Old Davis Rd\, El Macero\, CA\, United States
END:VEVENT
BEGIN:VEVENT
DTSTART;TZID=America/Los_Angeles:20260418T131500
DTEND;TZID=America/Los_Angeles:20260418T144500
DTSTAMP:20260425T090038
CREATED:20260307T022930Z
LAST-MODIFIED:20260418T144412Z
UID:15242-1776518100-1776523500@www.capitalcommunityathletics.com
SUMMARY:U15 Boys Away- Coach Rob
DESCRIPTION:Match #15915
URL:https://www.capitalcommunityathletics.com/event/u15-boys-away-coach-rob-3/
LOCATION:Scotten Field\, 10801 Squirrel Creek Rd\, Grass Valley\, CA\, United States
END:VEVENT
BEGIN:VEVENT
DTSTART;TZID=America/Los_Angeles:20260418T134500
DTEND;TZID=America/Los_Angeles:20260418T151500
DTSTAMP:20260425T090038
CREATED:20260403T064429Z
LAST-MODIFIED:20260418T144412Z
UID:15460-1776519900-1776525300@www.capitalcommunityathletics.com
SUMMARY:U14 Boys Away- Coach Phetse
DESCRIPTION:Match #337\, Wheeler Complex Fields
URL:https://www.capitalcommunityathletics.com/event/u14-boys-away-coach-phetse-8/
LOCATION:Beckwourth Riverfront Park\, 1010 Johnson Ave\, Marysville\, CA\, United States
END:VEVENT
BEGIN:VEVENT
DTSTART;TZID=America/Los_Angeles:20260418T150000
DTEND;TZID=America/Los_Angeles:20260418T163000
DTSTAMP:20260425T090038
CREATED:20260307T022930Z
LAST-MODIFIED:20260418T144412Z
UID:15240-1776524400-1776529800@www.capitalcommunityathletics.com
SUMMARY:U13 Boys Home- Coach Rafi
DESCRIPTION:Match #567\, Turf Field
URL:https://www.capitalcommunityathletics.com/event/u13-boys-home-coach-rafi-4/
LOCATION:El Camino Fundamental HS\, 4300 el Camino Ave\, Sacramento\, CA\, United States
END:VEVENT
BEGIN:VEVENT
DTSTART;TZID=America/Los_Angeles:20260419T140000
DTEND;TZID=America/Los_Angeles:20260419T153000
DTSTAMP:20260425T090038
CREATED:20260307T022930Z
LAST-MODIFIED:20260419T145901Z
UID:15243-1776607200-1776612600@www.capitalcommunityathletics.com
SUMMARY:U11 Boys Away- Coach Tom
DESCRIPTION:Match #3531\, Field #8
URL:https://www.capitalcommunityathletics.com/event/u11-boys-away-coach-tom-6/
LOCATION:Davis Legacy Soccer Club\, 100 Gay Way\, El Macero\, CA\, United States
END:VEVENT
BEGIN:VEVENT
DTSTART;TZID=America/Los_Angeles:20260419T153000
DTEND;TZID=America/Los_Angeles:20260419T170000
DTSTAMP:20260425T090038
CREATED:20260307T022929Z
LAST-MODIFIED:20260419T145901Z
UID:15237-1776612600-1776618000@www.capitalcommunityathletics.com
SUMMARY:U15 Boys Home- Coach Rob
DESCRIPTION:Match #15912\, Grass field off of Eastern Ave
URL:https://www.capitalcommunityathletics.com/event/u15-boys-home-coach-rob-4/
LOCATION:El Camino Fundamental HS\, 4300 el Camino Ave\, Sacramento\, CA\, United States
END:VEVENT
BEGIN:VEVENT
DTSTART;TZID=America/Los_Angeles:20260425T090000
DTEND;TZID=America/Los_Angeles:20260425T100000
DTSTAMP:20260425T090038
CREATED:20260311T030113Z
LAST-MODIFIED:20260425T152858Z
UID:15339-1777107600-1777111200@www.capitalcommunityathletics.com
SUMMARY:U10 Boys Home- Coach Sergio
DESCRIPTION:Match #100\, 7v7 Field
URL:https://www.capitalcommunityathletics.com/event/u10-boys-home-coach-sergio-7/
LOCATION:Sierra Oaks K-8\, 171 Mills Rd\, Sacramento\, CA\, United States
END:VEVENT
BEGIN:VEVENT
DTSTART;TZID=America/Los_Angeles:20260425T100000
DTEND;TZID=America/Los_Angeles:20260425T113000
DTSTAMP:20260425T090038
CREATED:20260307T022930Z
LAST-MODIFIED:20260425T152858Z
UID:15245-1777111200-1777116600@www.capitalcommunityathletics.com
SUMMARY:U13 Boys Away- Coach Rafi
DESCRIPTION:Match #571\, Field #5
URL:https://www.capitalcommunityathletics.com/event/u13-boys-away-coach-rafi-4/
LOCATION:Riverway Sports Park\, 3611 N Dinuba Blvd\, Visalia\, CA\, United States
END:VEVENT
BEGIN:VEVENT
DTSTART;TZID=America/Los_Angeles:20260425T100000
DTEND;TZID=America/Los_Angeles:20260425T113000
DTSTAMP:20260425T090038
CREATED:20260311T030126Z
LAST-MODIFIED:20260425T152858Z
UID:15342-1777111200-1777116600@www.capitalcommunityathletics.com
SUMMARY:U14 Boys Away- Coach Phetse
DESCRIPTION:Match #355
URL:https://www.capitalcommunityathletics.com/event/u14-boys-away-coach-phetse-6/
LOCATION:Lone Oak Park\, 3501 Elverta Rd\, Antelope\, CA\, United States
END:VEVENT
BEGIN:VEVENT
DTSTART;TZID=America/Los_Angeles:20260425T101500
DTEND;TZID=America/Los_Angeles:20260425T113000
DTSTAMP:20260425T090038
CREATED:20260311T030126Z
LAST-MODIFIED:20260425T152858Z
UID:15341-1777112100-1777116600@www.capitalcommunityathletics.com
SUMMARY:U12 Boys Away- Coach Chris
DESCRIPTION:Match #291\, Field 9
URL:https://www.capitalcommunityathletics.com/event/u12-boys-away-coach-chris-3/
LOCATION:Beckwourth Riverfront Park\, 1010 Johnson Ave\, Marysville\, CA\, United States
END:VEVENT
BEGIN:VEVENT
DTSTART;TZID=America/Los_Angeles:20260425T103000
DTEND;TZID=America/Los_Angeles:20260425T114500
DTSTAMP:20260425T090038
CREATED:20260311T030113Z
LAST-MODIFIED:20260425T152858Z
UID:15340-1777113000-1777117500@www.capitalcommunityathletics.com
SUMMARY:U12 Girls Home- Coach Maddy
DESCRIPTION:Match #191\, U12A
URL:https://www.capitalcommunityathletics.com/event/u12-girls-home-coach-maddy-2/
LOCATION:Albert Einstein Middle School\, 9325 Mirandy Dr\, Sacramento\, CA\, United States
END:VEVENT
BEGIN:VEVENT
DTSTART;TZID=America/Los_Angeles:20260425T114000
DTEND;TZID=America/Los_Angeles:20260425T131000
DTSTAMP:20260425T090038
CREATED:20260311T030126Z
LAST-MODIFIED:20260422T151400Z
UID:15343-1777117200-1777122600@www.capitalcommunityathletics.com
SUMMARY:U16 Boys Away- Coach Nick
DESCRIPTION:Match #452
URL:https://www.capitalcommunityathletics.com/event/u16-boys-away-coach-nick-5/
LOCATION:Northgate Park\, 2825 Mendel Way\, Sacramento\, CA\, United States
END:VEVENT
BEGIN:VEVENT
DTSTART;TZID=America/Los_Angeles:20260425T124000
DTEND;TZID=America/Los_Angeles:20260425T135000
DTSTAMP:20260425T090038
CREATED:20260307T022917Z
LAST-MODIFIED:20260425T152858Z
UID:15230-1777120800-1777125000@www.capitalcommunityathletics.com
SUMMARY:U11 Boys Home- Coach Tom
DESCRIPTION:Match #3521\, Field #3
URL:https://www.capitalcommunityathletics.com/event/u11-boys-home-coach-tom-6/
LOCATION:Larchmont Community Park\, 2449 Stansberry Way\, Sacramento\, CA\, United States
END:VEVENT
BEGIN:VEVENT
DTSTART;TZID=America/Los_Angeles:20260425T140500
DTEND;TZID=America/Los_Angeles:20260425T153500
DTSTAMP:20260425T090038
CREATED:20260423T151411Z
LAST-MODIFIED:20260425T152858Z
UID:15514-1777125900-1777131300@www.capitalcommunityathletics.com
SUMMARY:U15 Boys Away- Coach Rob
DESCRIPTION:Match #1124\, State Cup Quarterfinals
URL:https://www.capitalcommunityathletics.com/event/u15-boys-away-coach-rob-4/
LOCATION:Turlock Regional Sports Complex\, 4545 N Kilroy Rd\, Turlock\, CA\, United States
END:VEVENT
BEGIN:VEVENT
DTSTART;TZID=America/Los_Angeles:20260426T122500
DTEND;TZID=America/Los_Angeles:20260426T135500
DTSTAMP:20260425T090038
CREATED:20260307T022942Z
LAST-MODIFIED:20260425T152858Z
UID:15248-1777206300-1777211700@www.capitalcommunityathletics.com
SUMMARY:U13 Boys Home- Coach Rafi
DESCRIPTION:Match #558\, Field #2
URL:https://www.capitalcommunityathletics.com/event/u13-boys-home-coach-rafi-5/
LOCATION:Larchmont Community Park\, 2449 Stansberry Way\, Sacramento\, CA\, United States
END:VEVENT
BEGIN:VEVENT
DTSTART;TZID=America/Los_Angeles:20260426T140000
DTEND;TZID=America/Los_Angeles:20260426T153000
DTSTAMP:20260425T090038
CREATED:20260307T022930Z
LAST-MODIFIED:20260425T152858Z
UID:15246-1777212000-1777217400@www.capitalcommunityathletics.com
SUMMARY:U15 Boys Home- Coach Rob
DESCRIPTION:Match #15927\, Grass field off of Eastern Ave
URL:https://www.capitalcommunityathletics.com/event/u15-boys-home-coach-rob-5/
LOCATION:El Camino Fundamental HS\, 4300 el Camino Ave\, Sacramento\, CA\, United States
END:VEVENT
BEGIN:VEVENT
DTSTART;TZID=America/Los_Angeles:20260502T090000
DTEND;TZID=America/Los_Angeles:20260502T100000
DTSTAMP:20260425T090038
CREATED:20260311T030127Z
LAST-MODIFIED:20260425T152858Z
UID:15345-1777712400-1777716000@www.capitalcommunityathletics.com
SUMMARY:U10 Boys Away- Coach Sergio
DESCRIPTION:Match #102\, Field 2
URL:https://www.capitalcommunityathletics.com/event/u10-boys-away-coach-sergio-7/
LOCATION:Palisades\, Orangevale\, CA\, United States
END:VEVENT
BEGIN:VEVENT
DTSTART;TZID=America/Los_Angeles:20260502T090000
DTEND;TZID=America/Los_Angeles:20260502T103000
DTSTAMP:20260425T090038
CREATED:20260311T030127Z
LAST-MODIFIED:20260425T152858Z
UID:15348-1777712400-1777717800@www.capitalcommunityathletics.com
SUMMARY:U14 Boys Home- Coach Phetse
DESCRIPTION:Match #358\, Grass field off of Eastern Ave
URL:https://www.capitalcommunityathletics.com/event/u14-boys-home-coach-phetse-5/
LOCATION:El Camino Fundamental HS\, 4300 el Camino Ave\, Sacramento\, CA\, United States
END:VEVENT
BEGIN:VEVENT
DTSTART;TZID=America/Los_Angeles:20260502T100000
DTEND;TZID=America/Los_Angeles:20260502T111500
DTSTAMP:20260425T090038
CREATED:20260311T030127Z
LAST-MODIFIED:20260425T152858Z
UID:15349-1777716000-1777720500@www.capitalcommunityathletics.com
SUMMARY:U12 Girls Home- Coach Maddy
DESCRIPTION:Match #199\, 9v9 Field
URL:https://www.capitalcommunityathletics.com/event/u12-girls-home-coach-maddy-3/
LOCATION:Sierra Oaks K-8\, 171 Mills Rd\, Sacramento\, CA\, United States
END:VEVENT
BEGIN:VEVENT
DTSTART;TZID=America/Los_Angeles:20260502T103000
DTEND;TZID=America/Los_Angeles:20260502T120000
DTSTAMP:20260425T090038
CREATED:20260311T030127Z
LAST-MODIFIED:20260425T152858Z
UID:15347-1777717800-1777723200@www.capitalcommunityathletics.com
SUMMARY:U16 Boys Home- Coach Nick
DESCRIPTION:Match #453\, Grass field off of Eastern Ave
URL:https://www.capitalcommunityathletics.com/event/u16-boys-home-coach-nick-5/
LOCATION:El Camino Fundamental HS\, 4300 el Camino Ave\, Sacramento\, CA\, United States
END:VEVENT
BEGIN:VEVENT
DTSTART;TZID=America/Los_Angeles:20260502T111500
DTEND;TZID=America/Los_Angeles:20260502T123000
DTSTAMP:20260425T090038
CREATED:20260311T030127Z
LAST-MODIFIED:20260425T152858Z
UID:15346-1777720500-1777725000@www.capitalcommunityathletics.com
SUMMARY:U12 Boys Home- Coach Chris
DESCRIPTION:Match #293\, 9v9 field
URL:https://www.capitalcommunityathletics.com/event/u12-boys-home-coach-chris-4/
LOCATION:Sierra Oaks K-8\, 171 Mills Rd\, Sacramento\, CA\, United States
END:VEVENT
END:VCALENDAR