BEGIN:VCALENDAR
VERSION:2.0
PRODID:-//CCA - ECPv6.15.20//NONSGML v1.0//EN
CALSCALE:GREGORIAN
METHOD:PUBLISH
X-ORIGINAL-URL:https://www.capitalcommunityathletics.com
X-WR-CALDESC:Events for CCA
REFRESH-INTERVAL;VALUE=DURATION:PT1H
X-Robots-Tag:noindex
X-PUBLISHED-TTL:PT1H
BEGIN:VTIMEZONE
TZID:America/Los_Angeles
BEGIN:DAYLIGHT
TZOFFSETFROM:-0800
TZOFFSETTO:-0700
TZNAME:PDT
DTSTART:20250309T100000
END:DAYLIGHT
BEGIN:STANDARD
TZOFFSETFROM:-0700
TZOFFSETTO:-0800
TZNAME:PST
DTSTART:20251102T090000
END:STANDARD
BEGIN:DAYLIGHT
TZOFFSETFROM:-0800
TZOFFSETTO:-0700
TZNAME:PDT
DTSTART:20260308T100000
END:DAYLIGHT
BEGIN:STANDARD
TZOFFSETFROM:-0700
TZOFFSETTO:-0800
TZNAME:PST
DTSTART:20261101T090000
END:STANDARD
BEGIN:DAYLIGHT
TZOFFSETFROM:-0800
TZOFFSETTO:-0700
TZNAME:PDT
DTSTART:20270314T100000
END:DAYLIGHT
BEGIN:STANDARD
TZOFFSETFROM:-0700
TZOFFSETTO:-0800
TZNAME:PST
DTSTART:20271107T090000
END:STANDARD
END:VTIMEZONE
BEGIN:VEVENT
DTSTART;TZID=America/Los_Angeles:20260425T124000
DTEND;TZID=America/Los_Angeles:20260425T135000
DTSTAMP:20260425T202950
CREATED:20260307T022917Z
LAST-MODIFIED:20260425T152858Z
UID:15230-1777120800-1777125000@www.capitalcommunityathletics.com
SUMMARY:U11 Boys Home- Coach Tom
DESCRIPTION:Match #3521\, Field #3
URL:https://www.capitalcommunityathletics.com/event/u11-boys-home-coach-tom-6/
LOCATION:Larchmont Community Park\, 2449 Stansberry Way\, Sacramento\, CA\, United States
END:VEVENT
BEGIN:VEVENT
DTSTART;TZID=America/Los_Angeles:20260425T140500
DTEND;TZID=America/Los_Angeles:20260425T153500
DTSTAMP:20260425T202950
CREATED:20260423T151411Z
LAST-MODIFIED:20260425T152858Z
UID:15514-1777125900-1777131300@www.capitalcommunityathletics.com
SUMMARY:U15 Boys Away- Coach Rob
DESCRIPTION:Match #1124\, State Cup Quarterfinals
URL:https://www.capitalcommunityathletics.com/event/u15-boys-away-coach-rob-4/
LOCATION:Turlock Regional Sports Complex\, 4545 N Kilroy Rd\, Turlock\, CA\, United States
END:VEVENT
BEGIN:VEVENT
DTSTART;TZID=America/Los_Angeles:20260426T122500
DTEND;TZID=America/Los_Angeles:20260426T135500
DTSTAMP:20260425T202950
CREATED:20260307T022942Z
LAST-MODIFIED:20260425T152858Z
UID:15248-1777206300-1777211700@www.capitalcommunityathletics.com
SUMMARY:U13 Boys Home- Coach Rafi
DESCRIPTION:Match #558\, Field #2
URL:https://www.capitalcommunityathletics.com/event/u13-boys-home-coach-rafi-5/
LOCATION:Larchmont Community Park\, 2449 Stansberry Way\, Sacramento\, CA\, United States
END:VEVENT
BEGIN:VEVENT
DTSTART;TZID=America/Los_Angeles:20260426T140000
DTEND;TZID=America/Los_Angeles:20260426T153000
DTSTAMP:20260425T202950
CREATED:20260307T022930Z
LAST-MODIFIED:20260425T152858Z
UID:15246-1777212000-1777217400@www.capitalcommunityathletics.com
SUMMARY:U15 Boys Home- Coach Rob
DESCRIPTION:Match #15927\, Grass field off of Eastern Ave
URL:https://www.capitalcommunityathletics.com/event/u15-boys-home-coach-rob-5/
LOCATION:El Camino Fundamental HS\, 4300 el Camino Ave\, Sacramento\, CA\, United States
END:VEVENT
BEGIN:VEVENT
DTSTART;TZID=America/Los_Angeles:20260502T090000
DTEND;TZID=America/Los_Angeles:20260502T100000
DTSTAMP:20260425T202950
CREATED:20260311T030127Z
LAST-MODIFIED:20260425T152858Z
UID:15345-1777712400-1777716000@www.capitalcommunityathletics.com
SUMMARY:U10 Boys Away- Coach Sergio
DESCRIPTION:Match #102\, Field 2
URL:https://www.capitalcommunityathletics.com/event/u10-boys-away-coach-sergio-7/
LOCATION:Palisades\, Orangevale\, CA\, United States
END:VEVENT
BEGIN:VEVENT
DTSTART;TZID=America/Los_Angeles:20260502T090000
DTEND;TZID=America/Los_Angeles:20260502T103000
DTSTAMP:20260425T202950
CREATED:20260311T030127Z
LAST-MODIFIED:20260425T152858Z
UID:15348-1777712400-1777717800@www.capitalcommunityathletics.com
SUMMARY:U14 Boys Home- Coach Phetse
DESCRIPTION:Match #358\, Grass field off of Eastern Ave
URL:https://www.capitalcommunityathletics.com/event/u14-boys-home-coach-phetse-5/
LOCATION:El Camino Fundamental HS\, 4300 el Camino Ave\, Sacramento\, CA\, United States
END:VEVENT
BEGIN:VEVENT
DTSTART;TZID=America/Los_Angeles:20260502T100000
DTEND;TZID=America/Los_Angeles:20260502T111500
DTSTAMP:20260425T202950
CREATED:20260311T030127Z
LAST-MODIFIED:20260425T152858Z
UID:15349-1777716000-1777720500@www.capitalcommunityathletics.com
SUMMARY:U12 Girls Home- Coach Maddy
DESCRIPTION:Match #199\, 9v9 Field
URL:https://www.capitalcommunityathletics.com/event/u12-girls-home-coach-maddy-3/
LOCATION:Sierra Oaks K-8\, 171 Mills Rd\, Sacramento\, CA\, United States
END:VEVENT
BEGIN:VEVENT
DTSTART;TZID=America/Los_Angeles:20260502T103000
DTEND;TZID=America/Los_Angeles:20260502T120000
DTSTAMP:20260425T202950
CREATED:20260311T030127Z
LAST-MODIFIED:20260425T152858Z
UID:15347-1777717800-1777723200@www.capitalcommunityathletics.com
SUMMARY:U16 Boys Home- Coach Nick
DESCRIPTION:Match #453\, Grass field off of Eastern Ave
URL:https://www.capitalcommunityathletics.com/event/u16-boys-home-coach-nick-5/
LOCATION:El Camino Fundamental HS\, 4300 el Camino Ave\, Sacramento\, CA\, United States
END:VEVENT
BEGIN:VEVENT
DTSTART;TZID=America/Los_Angeles:20260502T111500
DTEND;TZID=America/Los_Angeles:20260502T123000
DTSTAMP:20260425T202950
CREATED:20260311T030127Z
LAST-MODIFIED:20260425T152858Z
UID:15346-1777720500-1777725000@www.capitalcommunityathletics.com
SUMMARY:U12 Boys Home- Coach Chris
DESCRIPTION:Match #293\, 9v9 field
URL:https://www.capitalcommunityathletics.com/event/u12-boys-home-coach-chris-4/
LOCATION:Sierra Oaks K-8\, 171 Mills Rd\, Sacramento\, CA\, United States
END:VEVENT
BEGIN:VEVENT
DTSTART;TZID=America/Los_Angeles:20260502T151500
DTEND;TZID=America/Los_Angeles:20260502T163000
DTSTAMP:20260425T202950
CREATED:20260417T144425Z
LAST-MODIFIED:20260425T152858Z
UID:15502-1777734900-1777739400@www.capitalcommunityathletics.com
SUMMARY:U13 Boys Home- Coach Rafi
DESCRIPTION:Davis Legacy Spring Super Clasico Tournament Match #1: Field #4
URL:https://www.capitalcommunityathletics.com/event/u13-boys-home-coach-rafi-7/
LOCATION:Davis Legacy Soccer Complex
END:VEVENT
BEGIN:VEVENT
DTSTART;TZID=America/Los_Angeles:20260502T152000
DTEND;TZID=America/Los_Angeles:20260502T163000
DTSTAMP:20260425T202950
CREATED:20260307T022931Z
LAST-MODIFIED:20260425T152858Z
UID:15247-1777735200-1777739400@www.capitalcommunityathletics.com
SUMMARY:U11 Boys Home- Coach Tom
DESCRIPTION:Match #3536\, Field #3
URL:https://www.capitalcommunityathletics.com/event/u11-boys-home-coach-tom-7/
LOCATION:Larchmont Community Park\, 2449 Stansberry Way\, Sacramento\, CA\, United States
END:VEVENT
BEGIN:VEVENT
DTSTART;TZID=America/Los_Angeles:20260502T193000
DTEND;TZID=America/Los_Angeles:20260502T204500
DTSTAMP:20260425T202950
CREATED:20260417T144426Z
LAST-MODIFIED:20260425T152859Z
UID:15503-1777750200-1777754700@www.capitalcommunityathletics.com
SUMMARY:U13 Boys Away- Coach Rafi
DESCRIPTION:Davis Legacy Spring Super Clasico Tournament Match #2- Field #6
URL:https://www.capitalcommunityathletics.com/event/u13-boys-away-coach-rafi-7/
LOCATION:Davis Legacy Soccer Complex
END:VEVENT
BEGIN:VEVENT
DTSTART;TZID=America/Los_Angeles:20260503T110000
DTEND;TZID=America/Los_Angeles:20260503T121500
DTSTAMP:20260425T202950
CREATED:20260417T144437Z
LAST-MODIFIED:20260425T152859Z
UID:15504-1777806000-1777810500@www.capitalcommunityathletics.com
SUMMARY:U13 Boys Home- Coach Rafi
DESCRIPTION:Davis Legacy Spring Super Clasico Tournament Match #3- Field #4
URL:https://www.capitalcommunityathletics.com/event/u13-boys-home-coach-rafi-8/
LOCATION:Davis Legacy Soccer Complex
END:VEVENT
BEGIN:VEVENT
DTSTART;TZID=America/Los_Angeles:20260503T130000
DTEND;TZID=America/Los_Angeles:20260503T141500
DTSTAMP:20260425T202950
CREATED:20260425T152859Z
LAST-MODIFIED:20260425T152859Z
UID:15520-1777813200-1777817700@www.capitalcommunityathletics.com
SUMMARY:U12 Boys Home- Coach Chris
DESCRIPTION:Match #283
URL:https://www.capitalcommunityathletics.com/event/u12-boys-home-coach-chris-5/
LOCATION:Sierra Oaks K-8\, 171 Mills Rd\, Sacramento\, CA\, United States
END:VEVENT
BEGIN:VEVENT
DTSTART;TZID=America/Los_Angeles:20260503T130000
DTEND;TZID=America/Los_Angeles:20260503T143000
DTSTAMP:20260425T202950
CREATED:20260307T022917Z
LAST-MODIFIED:20260425T152859Z
UID:15226-1777813200-1777818600@www.capitalcommunityathletics.com
SUMMARY:U15 Boys Home- Coach Rob
DESCRIPTION:Match #15905\, grass field off of Eastern Ave
URL:https://www.capitalcommunityathletics.com/event/u15-boys-home-coach-rob-2/
LOCATION:El Camino Fundamental HS\, 4300 el Camino Ave\, Sacramento\, CA\, United States
END:VEVENT
BEGIN:VEVENT
DTSTART;TZID=America/Los_Angeles:20260508T174500
DTEND;TZID=America/Los_Angeles:20260508T184500
DTSTAMP:20260425T202950
CREATED:20260423T151423Z
LAST-MODIFIED:20260425T152910Z
UID:15515-1778262300-1778265900@www.capitalcommunityathletics.com
SUMMARY:U11 Boys Away- Coach Tom
DESCRIPTION:Match #3524\, Field #4-A
URL:https://www.capitalcommunityathletics.com/event/u11-boys-away-coach-tom-7/
LOCATION:Granite Regional Park\, 8098 Ramona Ave\, Sacramento\, CA\, United States
END:VEVENT
BEGIN:VEVENT
DTSTART;VALUE=DATE:20260509
DTEND;VALUE=DATE:20260510
DTSTAMP:20260425T202950
CREATED:20260311T030140Z
LAST-MODIFIED:20260425T152910Z
UID:15355-1778284800-1778371199@www.capitalcommunityathletics.com
SUMMARY:U12 Girls Away- Coach Maddy
DESCRIPTION:Match #203\, Time & Location TBD
URL:https://www.capitalcommunityathletics.com/event/u12-girls-away-coach-maddy-4/
LOCATION:CA
END:VEVENT
BEGIN:VEVENT
DTSTART;TZID=America/Los_Angeles:20260509T084000
DTEND;TZID=America/Los_Angeles:20260509T095000
DTSTAMP:20260425T202950
CREATED:20260307T022942Z
LAST-MODIFIED:20260425T152910Z
UID:15249-1778316000-1778320200@www.capitalcommunityathletics.com
SUMMARY:U11 Boys Home- Coach Tom
DESCRIPTION:Match #3503\, Field #3
URL:https://www.capitalcommunityathletics.com/event/u11-boys-home-coach-tom-8/
LOCATION:Larchmont Community Park\, 2449 Stansberry Way\, Sacramento\, CA\, United States
END:VEVENT
BEGIN:VEVENT
DTSTART;TZID=America/Los_Angeles:20260509T090000
DTEND;TZID=America/Los_Angeles:20260509T103000
DTSTAMP:20260425T202950
CREATED:20260311T030139Z
LAST-MODIFIED:20260425T152911Z
UID:15352-1778317200-1778322600@www.capitalcommunityathletics.com
SUMMARY:U16 Boys Away- Coach Nick
DESCRIPTION:Match #456
URL:https://www.capitalcommunityathletics.com/event/u16-boys-away-coach-nick-6/
LOCATION:Orangevale Community Park\, 7301 Filbert Ave\, Orangevale\, CA\, United States
END:VEVENT
BEGIN:VEVENT
DTSTART;TZID=America/Los_Angeles:20260509T100000
DTEND;TZID=America/Los_Angeles:20260509T110000
DTSTAMP:20260425T202950
CREATED:20260311T030139Z
LAST-MODIFIED:20260425T152910Z
UID:15350-1778320800-1778324400@www.capitalcommunityathletics.com
SUMMARY:U10 Boys Home- Coach Sergio
DESCRIPTION:Match #107\, 7v7 field
URL:https://www.capitalcommunityathletics.com/event/u10-boys-home-coach-sergio-8/
LOCATION:Sierra Oaks K-8\, 171 Mills Rd\, Sacramento\, CA\, United States
END:VEVENT
BEGIN:VEVENT
DTSTART;TZID=America/Los_Angeles:20260509T130000
DTEND;TZID=America/Los_Angeles:20260509T143000
DTSTAMP:20260425T202950
CREATED:20260307T022942Z
LAST-MODIFIED:20260425T152911Z
UID:15251-1778331600-1778337000@www.capitalcommunityathletics.com
SUMMARY:U13 Boys Away- Coach Rafi
DESCRIPTION:Match #572\, Field #7
URL:https://www.capitalcommunityathletics.com/event/u13-boys-away-coach-rafi-5/
LOCATION:Legacy Fields Sports Complex\, 15800 Tracy Blvd\, Banta\, CA\, United States
END:VEVENT
BEGIN:VEVENT
DTSTART;TZID=America/Los_Angeles:20260509T130000
DTEND;TZID=America/Los_Angeles:20260509T143000
DTSTAMP:20260425T202950
CREATED:20260311T030139Z
LAST-MODIFIED:20260425T152911Z
UID:15353-1778331600-1778337000@www.capitalcommunityathletics.com
SUMMARY:U14 Boys Away- Coach Phetse
DESCRIPTION:Match #364\, Field 6
URL:https://www.capitalcommunityathletics.com/event/u14-boys-away-coach-phetse-7/
LOCATION:Beckwourth Riverfront Park\, 1010 Johnson Ave\, Marysville\, CA\, United States
END:VEVENT
BEGIN:VEVENT
DTSTART;TZID=America/Los_Angeles:20260509T144500
DTEND;TZID=America/Los_Angeles:20260509T160000
DTSTAMP:20260425T202950
CREATED:20260311T030140Z
LAST-MODIFIED:20260425T152911Z
UID:15354-1778337900-1778342400@www.capitalcommunityathletics.com
SUMMARY:U12 Boys Away- Coach Chris
DESCRIPTION:Match #297\, Field 9
URL:https://www.capitalcommunityathletics.com/event/u12-boys-away-coach-chris-4/
LOCATION:Beckwourth Riverfront Park\, 1010 Johnson Ave\, Marysville\, CA\, United States
END:VEVENT
BEGIN:VEVENT
DTSTART;TZID=America/Los_Angeles:20260510T103500
DTEND;TZID=America/Los_Angeles:20260510T115500
DTSTAMP:20260425T202950
CREATED:20260307T022942Z
LAST-MODIFIED:20260425T152911Z
UID:15252-1778409300-1778414100@www.capitalcommunityathletics.com
SUMMARY:U13 Boys Home- Coach Rafi
DESCRIPTION:Match #575\, Field #2
URL:https://www.capitalcommunityathletics.com/event/u13-boys-home-coach-rafi-6/
LOCATION:Larchmont Community Park\, 2449 Stansberry Way\, Sacramento\, CA\, United States
END:VEVENT
BEGIN:VEVENT
DTSTART;TZID=America/Los_Angeles:20260515T193000
DTEND;TZID=America/Los_Angeles:20260515T210000
DTSTAMP:20260425T202950
CREATED:20260307T022929Z
LAST-MODIFIED:20260425T152911Z
UID:15236-1778873400-1778878800@www.capitalcommunityathletics.com
SUMMARY:U15 Boys Away- Coach Rob
DESCRIPTION:Match #15901\, Black Field
URL:https://www.capitalcommunityathletics.com/event/u15-boys-away-coach-rob-2/
LOCATION:Tiemann Law Firm Fields at San Juan Soccer Club Complex\, 3151 Kilgore Rd\, Rancho Cordova\, CA\, United States
END:VEVENT
BEGIN:VEVENT
DTSTART;TZID=America/Los_Angeles:20260516T090000
DTEND;TZID=America/Los_Angeles:20260516T100000
DTSTAMP:20260425T202950
CREATED:20260415T144434Z
LAST-MODIFIED:20260425T152910Z
UID:15498-1778922000-1778925600@www.capitalcommunityathletics.com
SUMMARY:U10 Boys Away- Coach Sergio
DESCRIPTION:Match #92
URL:https://www.capitalcommunityathletics.com/event/u10-boys-away-coach-sergio-10/
LOCATION:Cosumnes River College\, 8402 Center Pkwy\, Sacramento\, CA\, United States
END:VEVENT
BEGIN:VEVENT
DTSTART;TZID=America/Los_Angeles:20260516T090000
DTEND;TZID=America/Los_Angeles:20260516T103000
DTSTAMP:20260425T202950
CREATED:20260311T030151Z
LAST-MODIFIED:20260425T152910Z
UID:15358-1778922000-1778927400@www.capitalcommunityathletics.com
SUMMARY:U16 Boys Home- Coach Nick
DESCRIPTION:Match #458\, Grass field off of Eastern Ave
URL:https://www.capitalcommunityathletics.com/event/u16-boys-home-coach-nick-6/
LOCATION:El Camino Fundamental HS\, 4300 el Camino Ave\, Sacramento\, CA\, United States
END:VEVENT
BEGIN:VEVENT
DTSTART;TZID=America/Los_Angeles:20260516T103000
DTEND;TZID=America/Los_Angeles:20260516T120000
DTSTAMP:20260425T202950
CREATED:20260311T030151Z
LAST-MODIFIED:20260425T152910Z
UID:15356-1778927400-1778932800@www.capitalcommunityathletics.com
SUMMARY:U14 Boys Home- Coach Phetse
DESCRIPTION:Match #365\, Grass field off of Eastern Ave
URL:https://www.capitalcommunityathletics.com/event/u14-boys-home-coach-phetse-6/
LOCATION:El Camino Fundamental HS\, 4300 el Camino Ave\, Sacramento\, CA\, United States
END:VEVENT
BEGIN:VEVENT
DTSTART;TZID=America/Los_Angeles:20260516T140000
DTEND;TZID=America/Los_Angeles:20260516T153000
DTSTAMP:20260425T202950
CREATED:20260307T022942Z
LAST-MODIFIED:20260425T152910Z
UID:15254-1778940000-1778945400@www.capitalcommunityathletics.com
SUMMARY:U13 Boys Away- Coach Rafi
DESCRIPTION:Match #578\, Field #1
URL:https://www.capitalcommunityathletics.com/event/u13-boys-away-coach-rafi-6/
LOCATION:Buchanan High School\, 1560 N Minnewawa Ave\, Fresno\, CA\, United States
END:VEVENT
BEGIN:VEVENT
DTSTART;TZID=America/Los_Angeles:20260615T180000
DTEND;TZID=America/Los_Angeles:20260615T200000
DTSTAMP:20260425T202950
CREATED:20260307T022942Z
LAST-MODIFIED:20260425T152910Z
UID:15255-1781546400-1781553600@www.capitalcommunityathletics.com
SUMMARY:Summer Jam Coach Training
DESCRIPTION:
URL:https://www.capitalcommunityathletics.com/event/summer-jam-coach-training/
LOCATION:CA
END:VEVENT
END:VCALENDAR